﻿BEGIN:VCALENDAR
VERSION:2.0
PRODID:-//Mark Brandwijk - ECPv5.16.4//NONSGML v1.0//EN
CALSCALE:GREGORIAN
METHOD:PUBLISH
X-WR-CALNAME:Mark Brandwijk
X-ORIGINAL-URL:https://markbrandwijk.nl
X-WR-CALDESC:Evenementen voor Mark Brandwijk
REFRESH-INTERVAL;VALUE=DURATION:PT1H
X-Robots-Tag:noindex
X-PUBLISHED-TTL:PT1H
BEGIN:VTIMEZONE
TZID:Europe/Amsterdam
BEGIN:DAYLIGHT
TZOFFSETFROM:+0100
TZOFFSETTO:+0200
TZNAME:CEST
DTSTART:20260329T010000
END:DAYLIGHT
BEGIN:STANDARD
TZOFFSETFROM:+0200
TZOFFSETTO:+0100
TZNAME:CET
DTSTART:20261025T010000
END:STANDARD
END:VTIMEZONE
BEGIN:VEVENT
DTSTART;TZID=Europe/Amsterdam:20260508T200000
DTEND;TZID=Europe/Amsterdam:20260508T220000
DTSTAMP:20260421T181226
CREATED:20260323T191307Z
LAST-MODIFIED:20260323T191307Z
UID:6692-1778270400-1778277600@markbrandwijk.nl
SUMMARY:Orgel-pianoconcert in Maassluis
DESCRIPTION:Op uitnodiging van de OCI speelt Mark een concert op piano en orgel in de Immanuëlkerk in Maassluis. De OCI beijvert zich om het prachtige Seifert-orgel te promoten en met de opbrengsten van de regelmatig georganiseerde concerten bij te dragen in het onderhoud van het instrument. Het orgel in de Immanuelkerk is gebouwd door de firma Romanus Seifert & Sohn te Kevelaer (Duitsland).
URL:https://markbrandwijk.nl/evenement/orgel-pianoconcert-in-maassluis/
CATEGORIES:Organist,Pianist
ATTACH;FMTTYPE=image/webp:https://markbrandwijk.nl/wp-content/uploads/2026/03/2026-01-01-OCI-jaarkalender.jpg.webp
END:VEVENT
BEGIN:VEVENT
DTSTART;TZID=Europe/Amsterdam:20260525T200000
DTEND;TZID=Europe/Amsterdam:20260525T220000
DTSTAMP:20260421T181226
CREATED:20260226T071615Z
LAST-MODIFIED:20260226T073254Z
UID:6677-1779739200-1779746400@markbrandwijk.nl
SUMMARY:Groot Doelenconcert voor Stichting Nachtzwaluw
DESCRIPTION:Een avond met internationale muziek in het teken van bijbelverspreiding naar de vervolgde kerk. Musici en koren uit Oost- en West-Europa brengen een programma waarin muziek grenzen overstijgt en verhalen hoorbaar worden die vaak verborgen blijven. \nMedewerkenden\nAan het concert werken onder andere het \n\nFilharmonica Paul Constantinescu uit Roemenië\nLuiza Spiridon\, sopraan\nMannenensemble Espressione\nChristelijk Gemengd Koor Cantate Deo\nChristelijk Jongerenkoor Glory\nGemengd Shaare Zedek Koor\nJaap Kramer\, organist\n\nDe muzikale leiding is in handen van Mark Brandwijk. Samen brengen zij een programma dat inhoud en muzikale kwaliteit verbindt. \nBekijk alle informatie op: https://www.nachtzwaluw.org/concert/ of bestel meteen tickets via de website van De Doelen!
URL:https://markbrandwijk.nl/evenement/groot-doelenconcert-voor-stichting-nachtzwaluw/
LOCATION:De Doelen\, Rotterdam\, Schouwburgplein 50\, Rotterdam\, Zuid-Holland\, 3012 CL\, Nederland
CATEGORIES:Dirigent,Pianist
ATTACH;FMTTYPE=image/jpeg:https://markbrandwijk.nl/wp-content/uploads/2026/02/FlyerConcert-1-scaled.jpg
END:VEVENT
END:VCALENDAR