﻿BEGIN:VCALENDAR
VERSION:2.0
PRODID:-//Mark Brandwijk - ECPv5.16.4//NONSGML v1.0//EN
CALSCALE:GREGORIAN
METHOD:PUBLISH
X-ORIGINAL-URL:https://markbrandwijk.nl
X-WR-CALDESC:Evenementen voor Mark Brandwijk
REFRESH-INTERVAL;VALUE=DURATION:PT1H
X-Robots-Tag:noindex
X-PUBLISHED-TTL:PT1H
BEGIN:VTIMEZONE
TZID:Europe/Amsterdam
BEGIN:DAYLIGHT
TZOFFSETFROM:+0100
TZOFFSETTO:+0200
TZNAME:CEST
DTSTART:20250330T010000
END:DAYLIGHT
BEGIN:STANDARD
TZOFFSETFROM:+0200
TZOFFSETTO:+0100
TZNAME:CET
DTSTART:20251026T010000
END:STANDARD
END:VTIMEZONE
BEGIN:VEVENT
DTSTART;TZID=Europe/Amsterdam:20251107T200000
DTEND;TZID=Europe/Amsterdam:20251107T220000
DTSTAMP:20260419T031458
CREATED:20250716T054743Z
LAST-MODIFIED:20250716T054743Z
UID:6582-1762545600-1762552800@markbrandwijk.nl
SUMMARY:Jubileumconcert Cantate Deo 60 jaar in AFAS Theater
DESCRIPTION:D.V. vrijdag 7 november 2025 viert Cantate Deo haar 60-jarig bestaan met een jubileumconcert. Het thema is: ‘Dankbaar verwachten’. Het programma wordt gevormd door hoogtepunten uit het repertoire\, klassieke meesterwerken en unieke arrangementen. Het geheel staat uiteraard onder de inspirerende leiding van dirigent Mark Brandwijk \nm.m.v.: \n\nChristelijk Gemengd Koor Cantate Deo uit Amersfoort o.l.v. Mark Brandwijk\nArs Musica Orkest\nJaap Eilander\, vleugel\nHans van Vuuren\, presentatie\n\nVoorafgaand wordt u ontvangen met koffie en thee. De zaal gaat om 19.30 uur open\, het concert begint om 20.00 uur. Na afloop bent u van harte uitgenodigd om ons jubileum mee te vieren\, onder het genot van een hapje en drankje. Uiteraard is parkeren onder het theater gratis! \nBestel tickets!
URL:https://markbrandwijk.nl/evenement/jubileumconcert-cantate-deo-60-jaar/
LOCATION:AFAS Theater\, Inspiratielaan 3\, Leusden\, Nederland
CATEGORIES:Dirigent
ATTACH;FMTTYPE=image/png:https://markbrandwijk.nl/wp-content/uploads/2025/07/Cantate-Deo-AFAS-Concert-_-07-11-2025.png
END:VEVENT
END:VCALENDAR