﻿BEGIN:VCALENDAR
VERSION:2.0
PRODID:-//Mark Brandwijk - ECPv5.16.4//NONSGML v1.0//EN
CALSCALE:GREGORIAN
METHOD:PUBLISH
X-WR-CALNAME:Mark Brandwijk
X-ORIGINAL-URL:https://markbrandwijk.nl
X-WR-CALDESC:Evenementen voor Mark Brandwijk
REFRESH-INTERVAL;VALUE=DURATION:PT1H
X-Robots-Tag:noindex
X-PUBLISHED-TTL:PT1H
BEGIN:VTIMEZONE
TZID:Europe/Amsterdam
BEGIN:DAYLIGHT
TZOFFSETFROM:+0100
TZOFFSETTO:+0200
TZNAME:CEST
DTSTART:20230326T010000
END:DAYLIGHT
BEGIN:STANDARD
TZOFFSETFROM:+0200
TZOFFSETTO:+0100
TZNAME:CET
DTSTART:20231029T010000
END:STANDARD
BEGIN:DAYLIGHT
TZOFFSETFROM:+0100
TZOFFSETTO:+0200
TZNAME:CEST
DTSTART:20240331T010000
END:DAYLIGHT
BEGIN:STANDARD
TZOFFSETFROM:+0200
TZOFFSETTO:+0100
TZNAME:CET
DTSTART:20241027T010000
END:STANDARD
BEGIN:DAYLIGHT
TZOFFSETFROM:+0100
TZOFFSETTO:+0200
TZNAME:CEST
DTSTART:20250330T010000
END:DAYLIGHT
BEGIN:STANDARD
TZOFFSETFROM:+0200
TZOFFSETTO:+0100
TZNAME:CET
DTSTART:20251026T010000
END:STANDARD
END:VTIMEZONE
BEGIN:VEVENT
DTSTART;TZID=Europe/Amsterdam:20230610T160000
DTEND;TZID=Europe/Amsterdam:20230610T170000
DTSTAMP:20260419T030648
CREATED:20230531T084939Z
LAST-MODIFIED:20230531T084939Z
UID:2365-1686412800-1686416400@markbrandwijk.nl
SUMMARY:Zaterdagmiddagconcert Cantate Deo
DESCRIPTION:Zaterdagmiddagconcert in De Fontein in Nijkerk. \nm.m.v. \n\nChristelijk Gemengd Koor “Cantate Deo” uit Amersfoort o.l.v. Mark Brandwijk\nGerwin van der Plaats\, orgel/vleugel\n\nBestel hier uw toegangskaart. \nKerk open om 15.30 uur\, aanvang 16.00 uur.
URL:https://markbrandwijk.nl/evenement/zaterdagmiddagconcert-cantate-deo/
LOCATION:De Fontein\, Ds. Kuijpersstraat 2\, Nijkerk\, Nederland
CATEGORIES:Dirigent
ATTACH;FMTTYPE=image/jpeg:https://markbrandwijk.nl/wp-content/uploads/2023/05/Poster-Cantate-Deo-page-001-jpg.jpg
END:VEVENT
BEGIN:VEVENT
DTSTART;TZID=Europe/Amsterdam:20251216T193000
DTEND;TZID=Europe/Amsterdam:20251216T213000
DTSTAMP:20260419T030648
CREATED:20251124T075507Z
LAST-MODIFIED:20251124T075507Z
UID:6646-1765913400-1765920600@markbrandwijk.nl
SUMMARY:Kerstconcert 'Excelsior'
DESCRIPTION:Kerstconcert Christelijke Gemengde Zangvereniging ‘Excelsior’ o.l.v. Herma van de Coterlet. \nMedewerkenden op deze avond zijn: \n\nBert Elbertsen\, orgel\nMark Brandwijk\, piano\nChloë Elsenaar\, viool\n\nToegang 10.00 incl. consumptie. Kaarten verkrijgbaar bij boekhandel Den Hertog en bij koorleden van Excelsior. \nAanvang 19.30\, Kerk open 19.00 uur.
URL:https://markbrandwijk.nl/evenement/kerstconcert-excelsior/
LOCATION:De Fontein\, Ds. Kuijpersstraat 2\, Nijkerk\, Nederland
CATEGORIES:Pianist
ATTACH;FMTTYPE=image/jpeg:https://markbrandwijk.nl/wp-content/uploads/2025/11/Foto-24-11-2025-om-08.52.jpeg
END:VEVENT
END:VCALENDAR