﻿BEGIN:VCALENDAR
VERSION:2.0
PRODID:-//Mark Brandwijk - ECPv5.16.4//NONSGML v1.0//EN
CALSCALE:GREGORIAN
METHOD:PUBLISH
X-ORIGINAL-URL:https://markbrandwijk.nl
X-WR-CALDESC:Evenementen voor Mark Brandwijk
REFRESH-INTERVAL;VALUE=DURATION:PT1H
X-Robots-Tag:noindex
X-PUBLISHED-TTL:PT1H
BEGIN:VTIMEZONE
TZID:Europe/Amsterdam
BEGIN:DAYLIGHT
TZOFFSETFROM:+0100
TZOFFSETTO:+0200
TZNAME:CEST
DTSTART:20240331T010000
END:DAYLIGHT
BEGIN:STANDARD
TZOFFSETFROM:+0200
TZOFFSETTO:+0100
TZNAME:CET
DTSTART:20241027T010000
END:STANDARD
END:VTIMEZONE
BEGIN:VEVENT
DTSTART;TZID=Europe/Amsterdam:20241123T143000
DTEND;TZID=Europe/Amsterdam:20241123T160000
DTSTAMP:20260419T032635
CREATED:20241118T085155Z
LAST-MODIFIED:20241118T085155Z
UID:5725-1732372200-1732377600@markbrandwijk.nl
SUMMARY:Kerstconcert Urker Mans Formatie
DESCRIPTION:Kerstconcert Urker Mans Formatie o.l.v. Martin Mans. \nMark Brandwijk\, orgel/piano
URL:https://markbrandwijk.nl/evenement/kerstconcert-urker-mans-formatie-4/
LOCATION:De Rank\, Zuidhorn\, Westergast 8\, Zuidhorn\, 9801 AZ\, Nederland
CATEGORIES:Organist,Pianist
ATTACH;FMTTYPE=image/jpeg:https://markbrandwijk.nl/wp-content/uploads/2024/11/467420568_3844927742414542_5070605648238057263_n.jpg
END:VEVENT
END:VCALENDAR