﻿BEGIN:VCALENDAR
VERSION:2.0
PRODID:-//Mark Brandwijk - ECPv5.16.4//NONSGML v1.0//EN
CALSCALE:GREGORIAN
METHOD:PUBLISH
X-WR-CALNAME:Mark Brandwijk
X-ORIGINAL-URL:https://markbrandwijk.nl
X-WR-CALDESC:Evenementen voor Mark Brandwijk
REFRESH-INTERVAL;VALUE=DURATION:PT1H
X-Robots-Tag:noindex
X-PUBLISHED-TTL:PT1H
BEGIN:VTIMEZONE
TZID:Europe/Amsterdam
BEGIN:DAYLIGHT
TZOFFSETFROM:+0100
TZOFFSETTO:+0200
TZNAME:CEST
DTSTART:20250330T010000
END:DAYLIGHT
BEGIN:STANDARD
TZOFFSETFROM:+0200
TZOFFSETTO:+0100
TZNAME:CET
DTSTART:20251026T010000
END:STANDARD
BEGIN:DAYLIGHT
TZOFFSETFROM:+0100
TZOFFSETTO:+0200
TZNAME:CEST
DTSTART:20260329T010000
END:DAYLIGHT
BEGIN:STANDARD
TZOFFSETFROM:+0200
TZOFFSETTO:+0100
TZNAME:CET
DTSTART:20261025T010000
END:STANDARD
END:VTIMEZONE
BEGIN:VEVENT
DTSTART;TZID=Europe/Amsterdam:20250111T193000
DTEND;TZID=Europe/Amsterdam:20250111T213000
DTSTAMP:20260419T033734
CREATED:20241118T083154Z
LAST-MODIFIED:20241118T083154Z
UID:5715-1736623800-1736631000@markbrandwijk.nl
SUMMARY:Shaare Zedek Koor & Espressione
DESCRIPTION:Tijdens het traditioneel nieuwjaarsconcert van het Shaare Zedek Koor is Mannenensemble Espressione o.l.v. Arjan Wouters te gast. \nVerdere medewerkenden zijn: \n\nKees Alers\, fluit\nSylvia Maessen\, contrabas\nArie van der Vlist\, orgel\nMartin Rozema\, evangelist\n\nDe kerk gaat open om 19.00\, het concert begint om 19.30. Toegang is gratis!
URL:https://markbrandwijk.nl/evenement/shaare-zedek-koor-espressione/
LOCATION:Grote Kerk\, Alblasserdam\, Cortgene 8\, Alblasserdam\, 2951 ED\, Nederland
CATEGORIES:Dirigent,Pianist
ATTACH;FMTTYPE=image/png:https://markbrandwijk.nl/wp-content/uploads/2024/11/Alblasserdam-11-januari-2025.png
END:VEVENT
BEGIN:VEVENT
DTSTART;TZID=Europe/Amsterdam:20260110T193000
DTEND;TZID=Europe/Amsterdam:20260110T213000
DTSTAMP:20260419T033734
CREATED:20250701T070803Z
LAST-MODIFIED:20250701T070803Z
UID:6560-1768073400-1768080600@markbrandwijk.nl
SUMMARY:JOHANNES | Presentatieconcert Alblasserdam
DESCRIPTION:Presentatie van het nieuwe oratorium Johannes de Doper van Mark Brandwijk\, op teksten van Anja den Otter. \n\nShaare Zedek Koor o.l.v. Mark Brandwijk\nOrgel: Arie van der Vlist\nVleugel: Kees de Bruin\nStrijkersensemble o.l.v. Csaba Erdos\nPercussi: Jaap Klootwijk\nDwarsfluit: Kees Alers\nHoorn: Pier de Jong\nHobo: Diana Abspoel\nSolist: Gerco Blom\nSpreekstem: Peter Brandwijk
URL:https://markbrandwijk.nl/evenement/johannes-presentatieconcert-alblasserdam/
LOCATION:Grote Kerk\, Alblasserdam\, Cortgene 8\, Alblasserdam\, 2951 ED\, Nederland
CATEGORIES:Dirigent
ATTACH;FMTTYPE=image/jpeg:https://markbrandwijk.nl/wp-content/uploads/2025/07/Flyer-SZ-A5-afbeeldingen-3.jpg
END:VEVENT
END:VCALENDAR