﻿BEGIN:VCALENDAR
VERSION:2.0
PRODID:-//Mark Brandwijk - ECPv5.16.4//NONSGML v1.0//EN
CALSCALE:GREGORIAN
METHOD:PUBLISH
X-WR-CALNAME:Mark Brandwijk
X-ORIGINAL-URL:https://markbrandwijk.nl
X-WR-CALDESC:Evenementen voor Mark Brandwijk
REFRESH-INTERVAL;VALUE=DURATION:PT1H
X-Robots-Tag:noindex
X-PUBLISHED-TTL:PT1H
BEGIN:VTIMEZONE
TZID:Europe/Amsterdam
BEGIN:DAYLIGHT
TZOFFSETFROM:+0100
TZOFFSETTO:+0200
TZNAME:CEST
DTSTART:20220327T010000
END:DAYLIGHT
BEGIN:STANDARD
TZOFFSETFROM:+0200
TZOFFSETTO:+0100
TZNAME:CET
DTSTART:20221030T010000
END:STANDARD
END:VTIMEZONE
BEGIN:VEVENT
DTSTART;TZID=Europe/Amsterdam:20221209T080000
DTEND;TZID=Europe/Amsterdam:20221209T170000
DTSTAMP:20260419T031928
CREATED:20221110T090440Z
LAST-MODIFIED:20221110T090440Z
UID:1407-1670572800-1670605200@markbrandwijk.nl
SUMMARY:Kerstconcert | Mannenensemble Espressione
DESCRIPTION:Mannensemble Espressione o.l.v. Arjan Wouters geeft samen met tenor Lucas Kramer\, pianist Mark Brandwijk en contrabassist Sylvia Maessen een concert in de Grote Kerk in Epe. \nBestel hier kaarten.
URL:https://markbrandwijk.nl/evenement/kerstconcert-mannenensemble-espressione/
LOCATION:Grote Kerk Epe\, Beekstraat 1A\, Epe\, Gelderland\, 8162 HA\, Nederland
CATEGORIES:Organist,Pianist
ATTACH;FMTTYPE=image/jpeg:https://markbrandwijk.nl/wp-content/uploads/2022/11/9-december-Epe.jpg
END:VEVENT
END:VCALENDAR