﻿BEGIN:VCALENDAR
VERSION:2.0
PRODID:-//Mark Brandwijk - ECPv5.16.4//NONSGML v1.0//EN
CALSCALE:GREGORIAN
METHOD:PUBLISH
X-WR-CALNAME:Mark Brandwijk
X-ORIGINAL-URL:https://markbrandwijk.nl
X-WR-CALDESC:Evenementen voor Mark Brandwijk
REFRESH-INTERVAL;VALUE=DURATION:PT1H
X-Robots-Tag:noindex
X-PUBLISHED-TTL:PT1H
BEGIN:VTIMEZONE
TZID:Europe/Amsterdam
BEGIN:DAYLIGHT
TZOFFSETFROM:+0100
TZOFFSETTO:+0200
TZNAME:CEST
DTSTART:20240331T010000
END:DAYLIGHT
BEGIN:STANDARD
TZOFFSETFROM:+0200
TZOFFSETTO:+0100
TZNAME:CET
DTSTART:20241027T010000
END:STANDARD
BEGIN:DAYLIGHT
TZOFFSETFROM:+0100
TZOFFSETTO:+0200
TZNAME:CEST
DTSTART:20250330T010000
END:DAYLIGHT
BEGIN:STANDARD
TZOFFSETFROM:+0200
TZOFFSETTO:+0100
TZNAME:CET
DTSTART:20251026T010000
END:STANDARD
END:VTIMEZONE
BEGIN:VEVENT
DTSTART;TZID=Europe/Amsterdam:20240106T200000
DTEND;TZID=Europe/Amsterdam:20240106T220000
DTSTAMP:20260419T032701
CREATED:20231121T092020Z
LAST-MODIFIED:20231121T092020Z
UID:3673-1704571200-1704578400@markbrandwijk.nl
SUMMARY:Vierhandig orgelconcert
DESCRIPTION:Op uitnodiging van de orgelcommissie geeft Duo Virtuoso (Reinier Korver en Mark Brandwijk) een vierhandig orgelconcert in de Grote Kerk in Nijkerk. \nHét pronkstuk van de Grote Kerk in Nijkerk is het orgel. Matthijs van Deventer bouwde het in 1756. De rijk versierde eikenhouten orgelkas is gemaakt door Andries van Bolder. Het instrument staat bekend om zijn rijke\, krachtige klank.​ \nBekijk meer informatie op www.orgelnijkerk.nl.
URL:https://markbrandwijk.nl/evenement/vierhandig-orgelconcert/
LOCATION:Grote Kerk Nijkerk\, Holkerstraat 1\, Nijkerk\, 3861 CC\, Nederland
CATEGORIES:Organist
ATTACH;FMTTYPE=image/jpeg:https://markbrandwijk.nl/wp-content/uploads/2023/11/401630145_838152718317202_1153995729601131395_n.jpg
END:VEVENT
BEGIN:VEVENT
DTSTART;TZID=Europe/Amsterdam:20250315T200000
DTEND;TZID=Europe/Amsterdam:20250315T220000
DTSTAMP:20260419T032701
CREATED:20250129T183149Z
LAST-MODIFIED:20250129T183149Z
UID:6438-1742068800-1742076000@markbrandwijk.nl
SUMMARY:Zingen onder de mooiste toren
DESCRIPTION:In de Grote Kerk van Nijkerk\, onder de mooiste kerktoren van Nederland\, wil de stichting Vrienden van de Grote Kerk Nijkerk mensen bij elkaar brengen\, om samen te genieten van zang en muziek. Samen gaan we zingen onder de mooiste toren! \nOp 15 maart wordt het concert als volgt ingevuld: \n\nChristelijk mannenkoor Soli Deo Gloria Urk o.l.v. Jaap Kramer\nAndré van Vliet (vleugel)\nMark Brandwijk (orgel)\n\nBestel tickets via deze website!
URL:https://markbrandwijk.nl/evenement/zingen-onder-de-mooiste-toren/
LOCATION:Grote Kerk Nijkerk\, Holkerstraat 1\, Nijkerk\, 3861 CC\, Nederland
CATEGORIES:Organist
ATTACH;FMTTYPE=image/jpeg:https://markbrandwijk.nl/wp-content/uploads/2025/01/soli-deo-gloria.jpg
END:VEVENT
END:VCALENDAR