﻿BEGIN:VCALENDAR
VERSION:2.0
PRODID:-//Mark Brandwijk - ECPv5.16.4//NONSGML v1.0//EN
CALSCALE:GREGORIAN
METHOD:PUBLISH
X-ORIGINAL-URL:https://markbrandwijk.nl
X-WR-CALDESC:Evenementen voor Mark Brandwijk
REFRESH-INTERVAL;VALUE=DURATION:PT1H
X-Robots-Tag:noindex
X-PUBLISHED-TTL:PT1H
BEGIN:VTIMEZONE
TZID:Europe/Amsterdam
BEGIN:DAYLIGHT
TZOFFSETFROM:+0100
TZOFFSETTO:+0200
TZNAME:CEST
DTSTART:20240331T010000
END:DAYLIGHT
BEGIN:STANDARD
TZOFFSETFROM:+0200
TZOFFSETTO:+0100
TZNAME:CET
DTSTART:20241027T010000
END:STANDARD
END:VTIMEZONE
BEGIN:VEVENT
DTSTART;TZID=Europe/Amsterdam:20241206T200000
DTEND;TZID=Europe/Amsterdam:20241206T220000
DTSTAMP:20260422T210011
CREATED:20241118T082220Z
LAST-MODIFIED:20241118T082220Z
UID:5707-1733515200-1733522400@markbrandwijk.nl
SUMMARY:Adventsconcert Hardinxveld-Giessendam
DESCRIPTION:In de prachtige Hervormde Kerk van Hardinxveld-Giessendam\, Peulenstraat 234\, wordt op 6 december een afwisselend Adventsconcert gegeven door Christelijk Jongerenkoor Glory en Christelijk Gemengd Koor Sursum Corda onder leiding van Edwin van Dijk. \nIn een prachtig afwisselend programma van koorzang en samenzang kijken we vol verwachting vooruit naar het komende kerstfeest. \nMedewerkenden zijn: \n\nSeverin van Dijk\, dwarsfluit\nGert-Jan Scherff\, piano\nRens de Winter\, orgel\nDs. K. Hoefnagel\, opening en sluiting\n\nDe collecte is voor het Landelijk Contact Jeugdwerk (LCJ).
URL:https://markbrandwijk.nl/evenement/adventsconcert-hardinxveld/
LOCATION:Hervormde Kerk\, Hardinxveld-Giessendam\, Peulenstraat 234\, Hardinxveld-Giessendam\, Zuid-Holland\, 3371 AS\, Nederland
CATEGORIES:Dirigent
ATTACH;FMTTYPE=image/jpeg:https://markbrandwijk.nl/wp-content/uploads/2024/11/c3619326-0b9c-46e8-8507-db04e1faca1d.jpeg
END:VEVENT
END:VCALENDAR