﻿BEGIN:VCALENDAR
VERSION:2.0
PRODID:-//Mark Brandwijk - ECPv5.16.4//NONSGML v1.0//EN
CALSCALE:GREGORIAN
METHOD:PUBLISH
X-WR-CALNAME:Mark Brandwijk
X-ORIGINAL-URL:https://markbrandwijk.nl
X-WR-CALDESC:Evenementen voor Mark Brandwijk
REFRESH-INTERVAL;VALUE=DURATION:PT1H
X-Robots-Tag:noindex
X-PUBLISHED-TTL:PT1H
BEGIN:VTIMEZONE
TZID:Europe/Amsterdam
BEGIN:DAYLIGHT
TZOFFSETFROM:+0100
TZOFFSETTO:+0200
TZNAME:CEST
DTSTART:20220327T010000
END:DAYLIGHT
BEGIN:STANDARD
TZOFFSETFROM:+0200
TZOFFSETTO:+0100
TZNAME:CET
DTSTART:20221030T010000
END:STANDARD
BEGIN:DAYLIGHT
TZOFFSETFROM:+0100
TZOFFSETTO:+0200
TZNAME:CEST
DTSTART:20230326T010000
END:DAYLIGHT
BEGIN:STANDARD
TZOFFSETFROM:+0200
TZOFFSETTO:+0100
TZNAME:CET
DTSTART:20231029T010000
END:STANDARD
BEGIN:DAYLIGHT
TZOFFSETFROM:+0100
TZOFFSETTO:+0200
TZNAME:CEST
DTSTART:20240331T010000
END:DAYLIGHT
BEGIN:STANDARD
TZOFFSETFROM:+0200
TZOFFSETTO:+0100
TZNAME:CET
DTSTART:20241027T010000
END:STANDARD
BEGIN:DAYLIGHT
TZOFFSETFROM:+0100
TZOFFSETTO:+0200
TZNAME:CEST
DTSTART:20250330T010000
END:DAYLIGHT
BEGIN:STANDARD
TZOFFSETFROM:+0200
TZOFFSETTO:+0100
TZNAME:CET
DTSTART:20251026T010000
END:STANDARD
END:VTIMEZONE
BEGIN:VEVENT
DTSTART;TZID=Europe/Amsterdam:20220708T193000
DTEND;TZID=Europe/Amsterdam:20220708T213000
DTSTAMP:20260422T210329
CREATED:20220701T104330Z
LAST-MODIFIED:20220701T104510Z
UID:710-1657308600-1657315800@markbrandwijk.nl
SUMMARY:Koorbegeleiding | Urker Mans Formatie
DESCRIPTION:Mark begeleidt een aantal concerten van de zomertour van de Urker Mans Formatie o.l.v. Martin Mans.
URL:https://markbrandwijk.nl/evenement/koorbegeleiding-urker-mans-formatie-3/
LOCATION:Hervormde Kerk\, Lunteren\, Dorpsstraat 34\, Lunteren\, Gelderland
CATEGORIES:Organist,Pianist
ATTACH;FMTTYPE=image/jpeg:https://markbrandwijk.nl/wp-content/uploads/2022/07/Mark-Brandwijk-bij-UMF-scaled.jpg
END:VEVENT
BEGIN:VEVENT
DTSTART;TZID=Europe/Amsterdam:20230901T193000
DTEND;TZID=Europe/Amsterdam:20230901T213000
DTSTAMP:20260422T210329
CREATED:20230815T105248Z
LAST-MODIFIED:20230815T105248Z
UID:2639-1693596600-1693603800@markbrandwijk.nl
SUMMARY:Zomerconcert Urker Mans Formatie
DESCRIPTION:Urker Mans Formatie o.l.v. Martin Mans. Mark Brandwijk\, orgel en piano \nReserveer hier bij Martin Mans Toegangskaarten.
URL:https://markbrandwijk.nl/evenement/zomerconcert-urker-mans-formatie-4/
LOCATION:Hervormde Kerk\, Lunteren\, Dorpsstraat 34\, Lunteren\, Gelderland
CATEGORIES:Organist,Pianist
ATTACH;FMTTYPE=image/jpeg:https://markbrandwijk.nl/wp-content/uploads/2023/06/348671948_501787562074080_3524442489818923122_n.jpg
END:VEVENT
BEGIN:VEVENT
DTSTART;TZID=Europe/Amsterdam:20250212T190000
DTEND;TZID=Europe/Amsterdam:20250212T194500
DTSTAMP:20260422T210329
CREATED:20250129T144649Z
LAST-MODIFIED:20250129T180343Z
UID:6429-1739386800-1739389500@markbrandwijk.nl
SUMMARY:Zing! met David
DESCRIPTION:Zing! is het vrolijke muziekprogramma van Kind en Evangelie. Zing! komt overal in Nederland. \nOp 12 februari hebben we een Zing! avond in de Oude Kerk in Lunteren. Kom je gezellig meezingen? \nWie zijn er bij? \n\nKinderkoor Immanuël uit Lunteren o.l.v. Renske Karens-van Vliet\nErica Tuik-Vogel\, zang en fluit\nRegina Edereveen\, harp\nMark Brandwijk\, orgel en piano\n\nZijn we niet bij jou in de buurt? \nZing dan mee via de livestream. \n 
URL:https://markbrandwijk.nl/evenement/zing-met-david/
LOCATION:Hervormde Kerk\, Lunteren\, Dorpsstraat 34\, Lunteren\, Gelderland
CATEGORIES:Organist,Pianist
ATTACH;FMTTYPE=image/png:https://markbrandwijk.nl/wp-content/uploads/2025/01/Social-media-bericht.png
END:VEVENT
BEGIN:VEVENT
DTSTART;TZID=Europe/Amsterdam:20251011T193000
DTEND;TZID=Europe/Amsterdam:20251011T213000
DTSTAMP:20260422T210329
CREATED:20250701T065842Z
LAST-MODIFIED:20250701T065842Z
UID:6554-1760211000-1760218200@markbrandwijk.nl
SUMMARY:JOHANNES | Presentatieconcert Lunteren
DESCRIPTION:Presentatie van het nieuwe oratorium Johannes de Doper van Mark Brandwijk\, op teksten van Anja den Otter. \n\nShaare Zedek Koor o.l.v. Mark Brandwijk\nOrgel: Arie van der Vlist\nVleugel: Kees de Bruin\nStrijkersensemble o.l.v. Csaba Erdos\nPercussi: Jaap Klootwijk\nDwarsfluit: Kees Alers\nHoorn: Pier de Jong\nHobo: Diana Abspoel\nSolist: Gerco Blom\nSpreekstem: Peter Brandwijk
URL:https://markbrandwijk.nl/evenement/johannes-presentatieconcert-lunteren/
LOCATION:Hervormde Kerk\, Lunteren\, Dorpsstraat 34\, Lunteren\, Gelderland
CATEGORIES:Dirigent
ATTACH;FMTTYPE=image/jpeg:https://markbrandwijk.nl/wp-content/uploads/2025/07/Flyer-SZ-A5-afbeeldingen-1.jpg
END:VEVENT
END:VCALENDAR