﻿BEGIN:VCALENDAR
VERSION:2.0
PRODID:-//Mark Brandwijk - ECPv5.16.4//NONSGML v1.0//EN
CALSCALE:GREGORIAN
METHOD:PUBLISH
X-WR-CALNAME:Mark Brandwijk
X-ORIGINAL-URL:https://markbrandwijk.nl
X-WR-CALDESC:Evenementen voor Mark Brandwijk
REFRESH-INTERVAL;VALUE=DURATION:PT1H
X-Robots-Tag:noindex
X-PUBLISHED-TTL:PT1H
BEGIN:VTIMEZONE
TZID:Europe/Amsterdam
BEGIN:DAYLIGHT
TZOFFSETFROM:+0100
TZOFFSETTO:+0200
TZNAME:CEST
DTSTART:20250330T010000
END:DAYLIGHT
BEGIN:STANDARD
TZOFFSETFROM:+0200
TZOFFSETTO:+0100
TZNAME:CET
DTSTART:20251026T010000
END:STANDARD
END:VTIMEZONE
BEGIN:VEVENT
DTSTART;TZID=Europe/Amsterdam:20250725T200000
DTEND;TZID=Europe/Amsterdam:20250725T220000
DTSTAMP:20260419T032009
CREATED:20250701T073447Z
LAST-MODIFIED:20250701T073447Z
UID:6568-1753473600-1753480800@markbrandwijk.nl
SUMMARY:Orgelconcert Orgelzaal Booy
DESCRIPTION:In de bijzonder Orgelzaal van Cor Booy geeft Mark op vrijdag 25 juli een orgelconcert. Aanvang is 20.00 uur\, tickets zijn hier te verkrijgen. \n‘s Morgens verzorgt hij in de Kapelkerk het zogeheten ‘Kaasmarktconcert’.
URL:https://markbrandwijk.nl/evenement/orgelconcert-orgelzaal-booy/
LOCATION:Orgelzaal Booy\, Daalmeerpad 13A\, Alkmaar\, 1827 GA\, Nederland
CATEGORIES:Organist
ATTACH;FMTTYPE=image/jpeg:https://markbrandwijk.nl/wp-content/uploads/2025/07/Alkmaar555Y.jpg
END:VEVENT
END:VCALENDAR