﻿BEGIN:VCALENDAR
VERSION:2.0
PRODID:-//Mark Brandwijk - ECPv5.16.4//NONSGML v1.0//EN
CALSCALE:GREGORIAN
METHOD:PUBLISH
X-WR-CALNAME:Mark Brandwijk
X-ORIGINAL-URL:https://markbrandwijk.nl
X-WR-CALDESC:Evenementen voor Mark Brandwijk
REFRESH-INTERVAL;VALUE=DURATION:PT1H
X-Robots-Tag:noindex
X-PUBLISHED-TTL:PT1H
BEGIN:VTIMEZONE
TZID:Europe/Amsterdam
BEGIN:DAYLIGHT
TZOFFSETFROM:+0100
TZOFFSETTO:+0200
TZNAME:CEST
DTSTART:20220327T010000
END:DAYLIGHT
BEGIN:STANDARD
TZOFFSETFROM:+0200
TZOFFSETTO:+0100
TZNAME:CET
DTSTART:20221030T010000
END:STANDARD
END:VTIMEZONE
BEGIN:VEVENT
DTSTART;TZID=Europe/Amsterdam:20220709T193000
DTEND;TZID=Europe/Amsterdam:20220709T213000
DTSTAMP:20260419T034335
CREATED:20220701T104453Z
LAST-MODIFIED:20220701T104453Z
UID:713-1657395000-1657402200@markbrandwijk.nl
SUMMARY:Koorbegeleiding | Urker Mans Formatie
DESCRIPTION:Mark begeleidt een aantal concerten van de zomertour van de Urker Mans Formatie o.l.v. Martin Mans.
URL:https://markbrandwijk.nl/evenement/koorbegeleiding-urker-mans-formatie-4/
LOCATION:Sint Jacobskerk\, Vlissingen\, Oude Markt 2\, Vlissingen\, Zeeland\, Nederland
CATEGORIES:Organist,Pianist
ATTACH;FMTTYPE=image/jpeg:https://markbrandwijk.nl/wp-content/uploads/2022/07/Mark-Brandwijk-bij-UMF-scaled.jpg
END:VEVENT
END:VCALENDAR