﻿BEGIN:VCALENDAR
VERSION:2.0
PRODID:-//Mark Brandwijk - ECPv5.16.4//NONSGML v1.0//EN
CALSCALE:GREGORIAN
METHOD:PUBLISH
X-ORIGINAL-URL:https://markbrandwijk.nl
X-WR-CALDESC:Evenementen voor Mark Brandwijk
REFRESH-INTERVAL;VALUE=DURATION:PT1H
X-Robots-Tag:noindex
X-PUBLISHED-TTL:PT1H
BEGIN:VTIMEZONE
TZID:Europe/Amsterdam
BEGIN:DAYLIGHT
TZOFFSETFROM:+0100
TZOFFSETTO:+0200
TZNAME:CEST
DTSTART:20250330T010000
END:DAYLIGHT
BEGIN:STANDARD
TZOFFSETFROM:+0200
TZOFFSETTO:+0100
TZNAME:CET
DTSTART:20251026T010000
END:STANDARD
END:VTIMEZONE
BEGIN:VEVENT
DTSTART;TZID=Europe/Amsterdam:20250829T200000
DTEND;TZID=Europe/Amsterdam:20250829T220000
DTSTAMP:20260419T031747
CREATED:20250715T115703Z
LAST-MODIFIED:20250715T115703Z
UID:6579-1756497600-1756504800@markbrandwijk.nl
SUMMARY:Dubbelconcert in Terschuur met Reinier Korver
DESCRIPTION:Op uitnodiging van de commissie in Terschuur spelen Mark Brandwijk en Reinier Korver een dubbelconcert op orgel en drukwindharmonium in de Sionskerk in Terschuur. \nOp het programma staat onder andere muziek van 2 soorten Bach\, Piazolla en Lemmens\, evenals koraalbewerkingen. \nGeniet van de verrassende – en zelden gehoorde – combinatie van orgel en harmonium!
URL:https://markbrandwijk.nl/evenement/dubbelconcert-in-terschuur-met-reinier-korver/
LOCATION:Sionskerk\, Terschuur\, Hoevelakenseweg 110\, Terschuur\, Gelderland\, 3784 WH\, Nederland
CATEGORIES:Organist,Pianist
ATTACH;FMTTYPE=image/jpeg:https://markbrandwijk.nl/wp-content/uploads/2025/07/WhatsApp-Image-2025-06-14-at-12.26.24.jpeg
END:VEVENT
END:VCALENDAR