﻿BEGIN:VCALENDAR
VERSION:2.0
PRODID:-//Mark Brandwijk - ECPv5.16.4//NONSGML v1.0//EN
CALSCALE:GREGORIAN
METHOD:PUBLISH
X-WR-CALNAME:Mark Brandwijk
X-ORIGINAL-URL:https://markbrandwijk.nl
X-WR-CALDESC:Evenementen voor Mark Brandwijk
REFRESH-INTERVAL;VALUE=DURATION:PT1H
X-Robots-Tag:noindex
X-PUBLISHED-TTL:PT1H
BEGIN:VTIMEZONE
TZID:Europe/Amsterdam
BEGIN:DAYLIGHT
TZOFFSETFROM:+0100
TZOFFSETTO:+0200
TZNAME:CEST
DTSTART:20230326T010000
END:DAYLIGHT
BEGIN:STANDARD
TZOFFSETFROM:+0200
TZOFFSETTO:+0100
TZNAME:CET
DTSTART:20231029T010000
END:STANDARD
BEGIN:DAYLIGHT
TZOFFSETFROM:+0100
TZOFFSETTO:+0200
TZNAME:CEST
DTSTART:20240331T010000
END:DAYLIGHT
BEGIN:STANDARD
TZOFFSETFROM:+0200
TZOFFSETTO:+0100
TZNAME:CET
DTSTART:20241027T010000
END:STANDARD
BEGIN:DAYLIGHT
TZOFFSETFROM:+0100
TZOFFSETTO:+0200
TZNAME:CEST
DTSTART:20250330T010000
END:DAYLIGHT
BEGIN:STANDARD
TZOFFSETFROM:+0200
TZOFFSETTO:+0100
TZNAME:CET
DTSTART:20251026T010000
END:STANDARD
END:VTIMEZONE
BEGIN:VEVENT
DTSTART;TZID=Europe/Amsterdam:20250412T193000
DTEND;TZID=Europe/Amsterdam:20250412T210000
DTSTAMP:20260419T040227
CREATED:20250226T133938Z
LAST-MODIFIED:20250226T133938Z
UID:6478-1744486200-1744491600@markbrandwijk.nl
SUMMARY:Paasconcert Cantate Deo & Scherzando in Dordrecht
DESCRIPTION:Concert m.m.v.: \n\nChristelijk Gemengd Koor Cantate Deo uit Amersfoort o.l.v. Mark Brandwijk\nChristelijk Ensemble Scherzando o.l.v. Corné Hoogerbrug\nMark Brandwijk\, vleugel\nJacob Schenk\, orgel\n\nTickets zijn te bestellen via https://scmaf.nl/evenement/passie-en-paasconcert/ \nConcert t.b.v. Ontwikkeling lesmateriaal voor Christelijk Onderwijs in Israël.
URL:https://markbrandwijk.nl/evenement/paasconcert-cantate-deo-scherzando-in-dordrecht/
LOCATION:Augustijnenkerk Dordrecht\, Voorstraat 216\, Dordrecht\, Zuid-Holland\, 3311 ET\, Nederland
CATEGORIES:Dirigent,Pianist
ATTACH;FMTTYPE=image/jpeg:https://markbrandwijk.nl/wp-content/uploads/2025/02/A3-poster-PassiePaas-AVOND-scaled-2.jpg
END:VEVENT
BEGIN:VEVENT
DTSTART;TZID=Europe/Amsterdam:20240608T193000
DTEND;TZID=Europe/Amsterdam:20240608T213000
DTSTAMP:20260419T040227
CREATED:20240515T052847Z
LAST-MODIFIED:20240515T052847Z
UID:4783-1717875000-1717882200@markbrandwijk.nl
SUMMARY:Zomerconcert Zeist
DESCRIPTION:Zaterdag 8 juni 2024 geven Tenira Sturm en Mark Brandwijk een zomerconcert samen met Scherzando uit Dordrecht. Het beloofd een uniek concert te worden\, Er zijn speciaal voor dit zomerconcert met Tenira en Mark nieuwe arrangementen gemaakt. Dit concert is dubbel speciaal omdat de opbrengst van dit concert is bestemd voor het goede doel Mercy Ships. \nJaarlijks overlijden wereldwijd zo’n 17 miljoen mensen omdat ze geen operatie kunnen krijgen. Dat is meer dan het aantal sterfgevallen door aids\, malaria en tuberculose bij elkaar. Dat is toch onacceptabel? \nMercy Ships versterkt de gezondheidszorg in Afrika met gratis operaties\, trainingen en voorlichting. Dat doen zij op en rond hun moderne ziekenhuisschepen\, die volledig gerund worden door vrijwilligers. \nUiteraard draagt u bij aan dit doel als u een ticket koopt voor deze avond. Er zal deze avond ook een collecte worden gehouden welke bestemd is voor dit goede doel. U kunt ook digitaal uw gift overmaken middels onderstaande link. Middels de omschrijving kunnen wij uw gift koppelen aan de juiste bestemming. \nLees meer en bestel tickets via deze link.
URL:https://markbrandwijk.nl/evenement/zomerconcert-zeist/
LOCATION:Oude Kerk\, Zeist\, 1e Dorpsstraat 1\, Zeist\, 3701 HC\, Nederland
CATEGORIES:Pianist
ATTACH;FMTTYPE=image/jpeg:https://markbrandwijk.nl/wp-content/uploads/2024/05/436347033_10235701542338519_9150981917224720939_n.jpg
END:VEVENT
BEGIN:VEVENT
DTSTART;TZID=Europe/Amsterdam:20230624T080000
DTEND;TZID=Europe/Amsterdam:20230624T170000
DTSTAMP:20260419T040227
CREATED:20230601T110358Z
LAST-MODIFIED:20230601T110358Z
UID:2388-1687593600-1687626000@markbrandwijk.nl
SUMMARY:Zomerconcert met Scherzando\, Tenira en Mark
DESCRIPTION:Zaterdag 24 juni 2023 geven Tenira Sturm en Mark Brandwijk een zomerconcert samen met Scherzando uit Dordrecht. Het beloofd een uniek concert te worden\, Er zijn speciaal voor dit zomerconcert met Tenira en Mark nieuwe arrangementen gemaakt. \nOrgel spelen is Mark (1994) met de paplepel ingegoten. Al toen hij 1\,5 jaar oud was zat Mark op schoot van z’n vader achter de klavieren van het huisorgel. Op zesjarige leeftijd ging Mark op les aan de muziekschool in Krimpen aan den IJssel bij bij Jaap den Besten. Na een aantal jaren vervolgde hij zijn studie bij Everhard Zwart. Mark won in 2007\, 2008 en 2009 het Feike Asma Orgelconcours. Mark begeleidt regelmatig kerk- en bruiloftsdiensten\, onder andere in de hervormde gemeente in Sliedrecht. Ook begeleidt hij regelmatig andere musici\, zangers en koren op orgel. Daarnaast is hij ook als concertorganist actief. Mark beheerst een breed orgel-repertoire\, en heeft een voorliefde voor (laat)romantisch en modern repertoire. Daarnaast is Mark ook een begaafd improvisator. \nToen Tenira nog heel jong was werd het al duidelijk dat ze heel graag wilde zingen en hier ook aanleg voor had. Deze hobby is inmiddels verder uitgegroeid. \nIn 2011 is Tenira op advies mee gaan doen met het Interclassic Music Concours (nu het Nederlands Premiere Concours). Deze periode is zij ook gestart met het volgen van zanglessen bij mezzosopraan /alt en zangpedagoge Annemarie Verburg uit Maassluis. Van het concours 2011 werd Tenira één van de winnaars. Hierna werd ze al vrij snel uitgenodigd mee te werken aan enkele concerten.\nSinds april 2013 volgt Tenira zanglessen bij sopraan en zangpedagoge Mirjam Feijer in Den Haag en is zij in begonnen met het volgen van pianolessen. Inmiddels geeft zij zelf ook zangles aan kinderen  van 6-14 jaar.\nZingen is haar passie en een bijzondere en heerlijke ontspanning waar ze echt van kan genieten. \nScherzando is een christelijk ensemble en bestaat momenteel uit zo’n twintig jonge\, enthousiaste musici. Hun repertoire bestaat uit klassieke en geestelijke muziek. Ze repeteren tweewekelijks op woensdagavond in Dordrecht onder leiding van hun dirigent Corné Hoogerbrug. Ze werken regelmatig mee aan diverse koor- en zangavonden. ‘Scherzando’ is een Italiaanse muziekterm en betekent ‘schertsend’. Het is een voordrachtsaanduiding in de muziek. \nDe laatste muzikant die we aan u voor wilen stellen is Jacob Schenk. Geboren op het voormalige eiland Urk was hij al vroeg geïnteresseerd in alles wat geluid maakte; klokken\, orgels\, koren. Vanaf 8 jarige leeftijd nam hij orgellessen die uiteindelijk uitmondden in de studies orgel\, koordirectie en kerkelijk orgelspel en de bijvakken zang en piano aan de Chr. Hogeschool v/d Kunsten ‘Constantijn Huygens’ in Zwolle. Hier waren zijn docenten Harm Jansen\, Jos Vermunt en Jos Leusink. Aanvullende studies werden gevolgd bij Harald Vogel (Noordduitse orgelmuziek) en Matthijs Verschoor (piano). Daarnaast verdiepte hij zich in het panfluitspel bij de Roemeense panfluitist Nicolae Pîrvu. \nZijn veelzijdigheid\, wat met recht zijn handelskenmerk genoemd mag worden\, maakten hem tot een veelgevraagd musicus in binnen- en buitenland. Zo werkte hij mee aan talloze concerten\, cd\, radio en tv opnames.
URL:https://markbrandwijk.nl/evenement/zomerconcert-met-scherzando-tenira-en-mark/
LOCATION:Singelkerk\, Ridderkerk\, Kerksingel 1\, Ridderkerk\, 2981 EH\, Nederland
CATEGORIES:Pianist
ATTACH;FMTTYPE=image/jpeg:https://markbrandwijk.nl/wp-content/uploads/2023/06/347582903_969594527501327_1678869925549611341_n.jpg
END:VEVENT
BEGIN:VEVENT
DTSTART;TZID=Europe/Amsterdam:20230325T200000
DTEND;TZID=Europe/Amsterdam:20230325T213000
DTSTAMP:20260419T040227
CREATED:20230306T103700Z
LAST-MODIFIED:20230306T103700Z
UID:1959-1679774400-1679779800@markbrandwijk.nl
SUMMARY:Benefietconcert 'Geloof in Groningen'
DESCRIPTION:Op zaterdag 25 maart 2023 komt Stichting Culturele Muzikale Activiteiten Flevoland in actie. Ze komen deze dag in actie voor een andere stichting genaamd: Geloof in Groningen. \nStichting ‘Geloof in Groningen’ ondersteunt het missionaire (zendings)werk van Bert & Christa Noteboom. Om hen te kunnen onderhouden\, maar ook om andere vormen van support in dit missiewerk te geven\, is deze stichting actief. Kijk gerust op hun website voor meer informatie. \nWat gaat de stichting doen?\n‘s Middags organiseert de stichting samen met Mark Brandwijk een orgelconcert op het Holtgräve orgel van de Lebuïnuskerk in Deventer. Een prachtig orgel met een geweldige klank. \nTickets voor dit concert zijn hier te verkrijgen.  \n‘s Avonds is er een concert met het Rijssens Mannenkoor dat onder leiding staat van Jaap Kramer. Tijdens deze avond zal Mark Brandwijk het orgel bespelen en Jan Lenselink de piano bespelen. Burgemeester Ben Visser vertelt over het gebied waar Bert en Christa actief zullen zijn. \nTickets voor dit concert zijn hier te verkrijgen. 
URL:https://markbrandwijk.nl/evenement/benefietconcert-geloof-in-groningen/
CATEGORIES:Organist
END:VEVENT
BEGIN:VEVENT
DTSTART;TZID=Europe/Amsterdam:20230325T150000
DTEND;TZID=Europe/Amsterdam:20230325T160000
DTSTAMP:20260419T040227
CREATED:20230201T092038Z
LAST-MODIFIED:20230220T091133Z
UID:1910-1679756400-1679760000@markbrandwijk.nl
SUMMARY:Orgelconcert Deventer
DESCRIPTION:Op uitnodiging van de Stichting Culturele Muzikale Activiteiten Flevoland speelt Mark een orgelconcert op het Holtgräve-orgel in de Lebuïnuskerk in Deventer ten bate van Geloof in Groningen. \nHet programma volgt later. \nTickets\nTickets zijn te bestellen via https://scmaf.nl/evenement/orgelconcert-mark-brandwijk/. Het is ook mogelijk een combinatieticket te kopen met het avondconcert\, waarbij Mark het Rijssens Mannenkoor o.l.v. Jaap Kramer begeleidt. \n 
URL:https://markbrandwijk.nl/evenement/orgelconcert-deventer/
LOCATION:Lebuïnuskerk\, Deventer\, Grote Kerkhof 38\, Deventer\, Overijssel\, 7411 KV\, Nederland
CATEGORIES:Organist
END:VEVENT
END:VCALENDAR